BEGIN:VCALENDAR
VERSION:2.0
PRODID:-//Stadtgeschichte München//DE
CALSCALE:GREGORIAN
BEGIN:VEVENT
UID:11913@stadtgeschichte-muenchen.de
SUMMARY:Die Linde ist Baum des Jahres
DESCRIPTION:Auch im Schlosspark ist sie ein besonderer Baum: &nbsp;Die Linde ist ein Baum der ursprünglichen Waldgesellschaft seit der letzten Eiszeit vor 8000 Jahren. &nbsp;Sie wurde dann Begleiter der alten Hutelandschaften rund um München und hat im Schlosspark wichtige Aufgaben zur Parkgestaltung bekommen. &nbsp; Im Nymphenburger Schlosspark treffen Natur und Gesellschaft aufeinander. &nbsp;Hier wachsen seit Jahrhunderten auch mächtige alte Linden, &nbsp;die bei der Führung aufgesucht werden. &nbsp;Auf einem naturkundlichen Spaziergang mit Gedichten &nbsp;durch den Schloßpark Nymphenburg &nbsp;führt JACQUES AND. VOLLAND. &nbsp; Unsere Referenten arbeiten ehrenamtlich und auf Brotzeitbasis – &nbsp;daher unser besonderer Dank für das Engagement.
DTSTART:20160708T160000
DTEND:20160708T173000
LOCATION:Schloß, Freitreppe Gartenseite
ORGANIZER:
END:VEVENT
END:VCALENDAR