BEGIN:VCALENDAR
VERSION:2.0
PRODID:-//Stadtgeschichte München//DE
CALSCALE:GREGORIAN
BEGIN:VEVENT
UID:11934@stadtgeschichte-muenchen.de
SUMMARY:Bier in Bayern - 500 Jahre Bayerisches Reinheitsgebot
DESCRIPTION:Weil Bier und Autofahren nicht unbedingt zusammenpasst, fahren wir mit dem Bus zu Bayerischen Landesausstellung \"Bier in Bayern - 500 Jahre Bayerisches Reinheitsgebot\" ins niederbayerische Kloster Aldenbach.&nbsp; Dabei besteht schon während der Fahrt die Möglichkeit, sich über die Frühgeschichte des Bieres und des Brauens zu informieren. Dabei spielen die Vorläufer dieses baierischen Polizeigesetzes eine wichtige Rolle, so zum Beispiel das \"Münchner Reinheitsgebot\" vom 30. November 1487, das die&nbsp;Vorschrift, dass ins Bier nur Gerste, Hopfen und Wasser darf,&nbsp;schon 29 Jahre vorher zum regional begrenzten Gesetz gemacht hat.&nbsp; Mit diesem Hintergrund können wir uns voll auf die Landesausstellung konzentrieren.&nbsp; Es bleibt bestimmt noch genügend Zeit, um in der Kloster-Gastwirtschaft die kulinarischen Genüsse der Region zu genießen und die zwei eigens für die Ausstellung eingebrauten Biere zu genießen.&nbsp;
DTSTART:20160915T093000
DTEND:20160915T193000
LOCATION:Hauptbahnhof Nordseite Arnulfstraße
ORGANIZER:Münchner Zeitensprünge
END:VEVENT
END:VCALENDAR