BEGIN:VCALENDAR
VERSION:2.0
PRODID:-//Stadtgeschichte München//DE
CALSCALE:GREGORIAN
BEGIN:VEVENT
UID:11950@stadtgeschichte-muenchen.de
SUMMARY:München auf den „zweiten Blick
DESCRIPTION:Auf diesem Rundgang schauen wir genauer hin: Sie lernen Gebäude und Orte im Kreuzviertel und der Graggenau näher kennen, an denen Sie sicher schon oft vorbeigegangen sind. Deren vergangene Bedeutung und Nutzung ist manchmal nicht auf den ersten Blick zu erkennen - auf den zweiten kommen die Geschichte Münchens spannende Details und manch verborgene Ecken zutage.
DTSTART:20170122T140000
DTEND:20170122T160000
LOCATION:Mariensäule · Marienplatz
ORGANIZER:MVHS München Mitte   
END:VEVENT
END:VCALENDAR