BEGIN:VCALENDAR
VERSION:2.0
PRODID:-//Stadtgeschichte München//DE
CALSCALE:GREGORIAN
BEGIN:VEVENT
UID:1197@stadtgeschichte-muenchen.de
SUMMARY:Siechhaus, Kulturtempel und Brauereien
DESCRIPTION:&lt;p&gt;Vom einst beg&amp;uuml;terten Leprosen-Spital auf dem Gasteig steht nurmehr das Kircherl mit der Loretto-Kapelle. Die Kl&amp;ouml;ster zwischen&amp;nbsp; Lilienberg und Mariahilfplatz fielen der S&amp;auml;kularisation zum Opfer. Heute dominiert zwischen M&amp;uuml;hlbach und Nockherberg die Paulaner- Brauerei mit dem Salvatorkeller. Von der Hochstra&amp;szlig;e gibt es zwischen buntem Herbstlaub malerische Ausblicke auf den M&amp;uuml;hlbach, die&lt;br /&gt; D&amp;auml;cher der Au und Teile der Stadtsilhouette.&lt;/p&gt;
DTSTART:20111029T110000
DTEND:20111029T130000
LOCATION:
ORGANIZER:MVHS München Mitte   
END:VEVENT
END:VCALENDAR