BEGIN:VCALENDAR
VERSION:2.0
PRODID:-//Stadtgeschichte München//DE
CALSCALE:GREGORIAN
BEGIN:VEVENT
UID:11975@stadtgeschichte-muenchen.de
SUMMARY:​Ein Besuch bei „Wüstenrose“
DESCRIPTION:Das Thema „Zwangsverheiratung\" kanr. jedem oder jeder begegnen. Junge Menschen erzählen manchmal davon, dass sie von ihrer Familie unter Druck gesetzt werden, einer Ehe zuzustimmen, die sie eigentlich nicht wollen. Bei Wüstenrose erhalten diese jungen Menschen Beratung und Unterstützung. Erfahren Sie direkt vor Ort, wie bei Wüstenrose gearbeitet wird. Außerdem bekommen Sie viele Hintergrundinformationen zum Thema Zwangsverheiratung und Gewalt „im Namen der Ehre\".
DTSTART:20161115T173000
DTEND:20161115T190000
LOCATION:IMMA e.V. - Goethestraße 47
ORGANIZER:MVHS München Mitte   
END:VEVENT
END:VCALENDAR