BEGIN:VCALENDAR
VERSION:2.0
PRODID:-//Stadtgeschichte München//DE
CALSCALE:GREGORIAN
BEGIN:VEVENT
UID:11977@stadtgeschichte-muenchen.de
SUMMARY:Das Deutsche Patent- und Markenamt (DPMA)
DESCRIPTION:Ob Patente, Gebrauchsmuster Marken oder eingetragene Designs: Alle diese gewerblichen Schutzrechte können Sie beim Deutschen Patent-und Markenamt anmelden. Sie spiegeln den Ideenreichtum, die Kreativität und den Forscherdrangw ider. Das DPMA, realisiert diesen Schutz, indem es valide gewerbliche Schutzrechte erteilt, registriert und verwaltet. Außerdem nimmt es den gesetzlichen Auftrag wahr, die Öffentlichkeit über gewerbliche Schutzrechte und bereits geschützte Ideen und Erfindungen zu informieren: Mittagessen in der Kantine möglich.
DTSTART:20161130T103000
DTEND:20161130T120000
LOCATION:Deutsches Patent-und Markenamt · Zweibrückenstraße 12
ORGANIZER:MVHS München Mitte   
END:VEVENT
END:VCALENDAR