BEGIN:VCALENDAR
VERSION:2.0
PRODID:-//Stadtgeschichte München//DE
CALSCALE:GREGORIAN
BEGIN:VEVENT
UID:11979@stadtgeschichte-muenchen.de
SUMMARY:Das Westend ‐ ein  bayerisches Multi-Kulti-Viertel
DESCRIPTION:Für München ist es ein außergewöhnliches Stadtviertel: nicht schick, dafür umso bunter! Neben der Szenekneipe treffen sich die arabischen Mitbürger zu einem Kaffee, wir sehen die alten Messehallen, die Kongresshalle aus den 1950er Jahren und natürlich die neuen Hochhäuser, die von den Biermösl Blosn das „Betongebirge\" getauft wurden. Es gilt das originellste Cafe Münchens zu entdecken und viele weitere Besonderheiten, die einem nicht sofort ins Auge fallen. ImAnschluss können Sie bei „Sti Maria“ essen, die seit 25 Jahren in der Gollierstraße mit ihrer herrlichen griechischen Küche und Gastfreundschaft die Westend-Atmosphäre mit prägt (optional, Selbstzahler). &nbsp;
DTSTART:20161119T150000
DTEND:20161119T163000
LOCATION:Deutsches Museum Verkehrszentrum (Eingang)  Am Bavariapark 5
ORGANIZER:MVHS München Mitte   
END:VEVENT
END:VCALENDAR