BEGIN:VCALENDAR
VERSION:2.0
PRODID:-//Stadtgeschichte München//DE
CALSCALE:GREGORIAN
BEGIN:VEVENT
UID:11982@stadtgeschichte-muenchen.de
SUMMARY:Musikstadt München im „Dritten Reich\"
DESCRIPTION:1933 begann unter Hitlers NS-Regimed ie systematischeG leichschaltung des kulturellen und musikalischen Lebens in München. Eine erste Maßnahme war die Etablierung eines „ führertreuen\" Symphonieorchesters . Konzert-und Opernbühnen wurden reglementiert, missliebige Künstler entfernt. Unser Rundgang führt uns an Orte und zu Musikern, die durch das nationalsozialistischeM ünchen geprägt wurden. Manche hatten sich den neuen Verhältnissen notgedrungen angepasst. Andere widersetzten sich und riskierten dabei das Ende der eigenen künstlerischen Laufbahn.
DTSTART:20161223T140000
DTEND:20161223T160000
LOCATION:Ludwig-Maximilians-Universität· Geschwister-Scholl-Platz am Brunnen
ORGANIZER:MVHS München Mitte   
END:VEVENT
END:VCALENDAR