BEGIN:VCALENDAR
VERSION:2.0
PRODID:-//Stadtgeschichte München//DE
CALSCALE:GREGORIAN
BEGIN:VEVENT
UID:11986@stadtgeschichte-muenchen.de
SUMMARY:Die Spaten-Franziskaner Brauerei
DESCRIPTION:Welchen Prozess durchlaufen Malz, Hopfen, Wasser und Hefe, bis daraus Bierspezialitäten werden? Die Führung beginnt mit dem Gang ins Sudhaus, wo Sie einen Blick in die kupfernen Sudkesse werfen können. Danach steigen wir hinab in den historischen Lagerkeller mit den Bogengewölben und den riesigen Eichenfässern. Spannende Details rund ums Bier und Brauen erfahren Sie bei einer Besichtigung der Spaten-Franziskaner-Löwenbräu Brauererei. Anschließend verkosten wir bei einer Brotzeit verschiedene Biersorten. Begleitprogramm zur Ausstellung BIER.MACHT.MÜNCHEN&nbsp;des Münchner Stadtmuseums &nbsp;
DTSTART:20161118T100000
DTEND:20161118T130000
LOCATION:Spaten-Franziskaner-Brauerei Marsstr. 46-48
ORGANIZER:MVHS München Mitte   
END:VEVENT
END:VCALENDAR