BEGIN:VCALENDAR
VERSION:2.0
PRODID:-//Stadtgeschichte München//DE
CALSCALE:GREGORIAN
BEGIN:VEVENT
UID:11992@stadtgeschichte-muenchen.de
SUMMARY:Der Münchner Justizpalast
DESCRIPTION:Der berühmte Architekt Friedrich von Thiersch erbaut 1890 den Justizpalast,d essenG laskuppeld as Stadtbild prägt. Unter dieser Kuppel befindet sich das Prunktreppenhaus. Im Jahre 1943 fand der Prozessg egen die Mitglieder der Weißen Roseh ier im Hauses tatt und eine kleine Ausstellung erinnert daran. Bitte nehmen Siew egen der strengen Sicherheitskontrolles o wenig Gepäck wie möglich und keine „gefährlicnen\" Gegenstände mit. (Gebührenfrei für Bewohner der MÜNCHENSTIFT-Häuser)
DTSTART:20170112T140000
DTEND:20170112T150000
LOCATION:Justizpalast· Prielmayerstr. 7
ORGANIZER:MVHS München Mitte   
END:VEVENT
END:VCALENDAR