BEGIN:VCALENDAR
VERSION:2.0
PRODID:-//Stadtgeschichte München//DE
CALSCALE:GREGORIAN
BEGIN:VEVENT
UID:12000@stadtgeschichte-muenchen.de
SUMMARY:„Future City“ Studierende denken den Münchner Norden weiter
DESCRIPTION:Die Stadt von morgen soll lebenswert, tolerant und kreativ sein, umweltverträglich und sozialgerecht. Studierende der Hochschule München haben dazu Ideen für den Münchner Norden entwickelt, die die MVHS in einer Ausstellung präsentiert. Doch sind Visionen wie ein „ Park der Kulturen\", ,, Vertical Farming\" oder ein Generationen- und Nationenhaus in die Realität umsetzbar? Wie innovative Ideen in die konkrete Stadtplanung einfließen können; diskutieren Prof. Georg Zollner von der Hochschule München und Stephan ReißSchmidt vom Referat für Stadtplanung und Bauordnung. In Kooperation mit dem Referat für Stadtplanung und Bauordnung und der Hochschule München.
DTSTART:20161005T180000
DTEND:20161005T193000
LOCATION:Volkshochschule· Troppauer Str. 10
ORGANIZER:MVHS München Nord
END:VEVENT
END:VCALENDAR