BEGIN:VCALENDAR
VERSION:2.0
PRODID:-//Stadtgeschichte München//DE
CALSCALE:GREGORIAN
BEGIN:VEVENT
UID:1203@stadtgeschichte-muenchen.de
SUMMARY:Das ist bestimmt ein Teil von Antonetty â€¦
DESCRIPTION:&lt;p&gt;Ein Portemonnaie in Flammenrot mit lila Innenfutter? Ein Kleid aus Ziegenhaut, eine tintenblaue Nappahose oder eine B&amp;ouml;rse aus Lack? Hier wird Leder auf so gut wie jedes Ma&amp;szlig; oder jede Form geschneidert. Der eigene Stil und die gewagten Kompositionen machen das Besondere aus. In diesem kleinen Atelier sp&amp;uuml;rt man noch die Liebe zum Detail und zur Perfektion. Hier sehen und erleben wir, wie sich der lange Weg und der Mut zur Selbstst&amp;auml;ndigkeit gelohnt haben.&lt;/p&gt; &lt;br /&gt;
DTSTART:20111010T110000
DTEND:20111010T120000
LOCATION:Antonetty Lederwerkstatt Â· Klenzestr. 56 
ORGANIZER:MVHS München Mitte   
END:VEVENT
END:VCALENDAR