BEGIN:VCALENDAR
VERSION:2.0
PRODID:-//Stadtgeschichte München//DE
CALSCALE:GREGORIAN
BEGIN:VEVENT
UID:12045@stadtgeschichte-muenchen.de
SUMMARY:Die russisch-orthodoxe Kirche der Neumärtyrer am Perlacher Forst
DESCRIPTION:Durch den Friedhof am Perlacher Forst führt der Weg zunächst zu den Gräbern u.a. von Mitgliedern der „Weißen Rose\", den Geschwistern Scholl und insbesondere Alexander Schmorell. Dieser wurde in der nahe gelegenen russisch‐orthodoxen Kirche heilig gesprochen und in den Kreis der Neumärtyrer aufgenommen. Im Innern der Kirche treffen die Besucher heute auf die große Tradition und Bedeutung der russischen Ikonenmalerei. Nach der Führung besteht bei einer Teerunde die Möglichkeit zum Austausch.
DTSTART:20161118T140000
DTEND:20161118T163000
LOCATION: Friedhof am Perlacher Forst - Stadelheimer Str. 24 (Tram-Haltestelle Schwanseestr.) 
ORGANIZER:MVHS München Ost
END:VEVENT
END:VCALENDAR