BEGIN:VCALENDAR
VERSION:2.0
PRODID:-//Stadtgeschichte München//DE
CALSCALE:GREGORIAN
BEGIN:VEVENT
UID:1206@stadtgeschichte-muenchen.de
SUMMARY:Zwischen Kreuz und Halbmond
DESCRIPTION:&lt;p&gt;Persische Gesch&amp;auml;fte, albanische Moscheen, Spielh&amp;ouml;llen, zahlreiche Instanzen beider Kirchen, aber auch Altm&amp;uuml;nchner Traditionen sind&lt;br /&gt; hier zu finden. Zwischen Dachauer Stra&amp;szlig;e &amp;ndash; in der die erste Pferdetram in Richtung Neuhausen fuhr, Stiglmaierplatz, Seidl- und Marsstra&amp;szlig;e erkunden wir ein facetten- und kontrastreiches Quartier und seine Wandlungen in den letzten Jahrzehnten. Dabei sto&amp;szlig;en wir auf ber&amp;uuml;hmte Namen wie Adele Spitzeder, Gabriel von Seidl und Karl Valentin.&lt;/p&gt;
DTSTART:20111023T140000
DTEND:20111023T160000
LOCATION:Münchner Hauptbahnhof Â· Bahnhofsplatz, Haupteingang am Fahrradparkplatz 
ORGANIZER:MVHS München Mitte   
END:VEVENT
END:VCALENDAR