BEGIN:VCALENDAR
VERSION:2.0
PRODID:-//Stadtgeschichte München//DE
CALSCALE:GREGORIAN
BEGIN:VEVENT
UID:1207@stadtgeschichte-muenchen.de
SUMMARY:Stadtstreunereien auf dem Marsfeld
DESCRIPTION:&lt;p&gt;&amp;Uuml;ber 250 Jahre stritten die Neuhauser Bauern mit dem bayerischen Heer um ihre Weiderechte vor dem Neuhauser Berg. Schlie&amp;szlig;lich&lt;br /&gt; mussten sie den &amp;bdquo;bluombesuch&amp;ldquo; ihres Viehs dort preisgeben: Das Gebiet war zum &amp;bdquo;Marsfeld&amp;ldquo; (1803), Exerzier- und Man&amp;ouml;vergel&amp;auml;nde, bald Kasernen- und Milit&amp;auml;rviertel der K&amp;ouml;niglichen Haupt- und Residenzstadt M&amp;uuml;nchen geworden. Es wucherte &amp;uuml;ber die Nymphenburgerstra&amp;szlig;e hin&amp;uuml;ber zum Oberwiesenfeld und wurde in Revolution und Reaktion Schauplatz bedeutender zeitgeschichtlicher Ereignisse. Seit Kriegsende &amp;ndash; und verst&amp;auml;rkt in den letzten zehn Jahren &amp;ndash; wird das Viertel von Grund auf &amp;bdquo;umgekrempelt&amp;ldquo;.&lt;/p&gt;
DTSTART:20111009T150000
DTEND:20111009T170000
LOCATION:Hackerbrücke (Vorplatz/Zugang zum Zentralen Busbahnhof) 
ORGANIZER:MVHS München Mitte   
END:VEVENT
END:VCALENDAR