BEGIN:VCALENDAR
VERSION:2.0
PRODID:-//Stadtgeschichte München//DE
CALSCALE:GREGORIAN
BEGIN:VEVENT
UID:12089@stadtgeschichte-muenchen.de
SUMMARY:Provokante Kunst in der Nazizeit:
DESCRIPTION:Als um 1930 das riesige, figurenreiche Wandbild bei dem namhaften Künstler Prof. Reinhold Max Eichler in Auftrag gegeben wurde, ahnte keiner, dassd ies die Nationalsozialistend, ie mitten in der Ausarbeitung des Werkes an die Macht gelangten, provozieren würde. Dargestellt ist die Bergpredigt, die an die Wertschätzung der Schwachen, Andersartigen und Menschen anderer Hautfarbe appelliert. Im Widerspruch zur Nazi-Ideologie blieb dies nicht ohne Folgen. Die ortsansässige Kunsthistorikerin Martina Müllner erläutert die EntstehLmgsgeschichteu nd die Raffinessen des kunsthistorisch bedeutenden Freskos.
DTSTART:20161120T140000
DTEND:20161120T160000
LOCATION:Thomaskirche Grünwald · Ludwig Thoma-Platz 5
ORGANIZER:MVHS München Ost
END:VEVENT
END:VCALENDAR