BEGIN:VCALENDAR
VERSION:2.0
PRODID:-//Stadtgeschichte München//DE
CALSCALE:GREGORIAN
BEGIN:VEVENT
UID:1209@stadtgeschichte-muenchen.de
SUMMARY:Das Bayerische Landeskriminalamt
DESCRIPTION:&lt;p&gt;Das Bayerische Landeskriminalamt ist eine moderne Polizeizentrale, die alle bekannten Technologien zur Information, Untersuchung, Ermittlung und Pr&amp;auml;vention einsetzt, diese erforscht und weiterentwickelt. Nach einem kurzen Video &amp;uuml;ber die Aufgaben des&amp;nbsp; Landeskriminalamtes wird die Arbeit der Beh&amp;ouml;rde an konkreten Beispielen erl&amp;auml;utert.&lt;/p&gt; &lt;p&gt;Das LKA ben&amp;ouml;tigt vor der F&amp;uuml;hrung die Namen und Geburtsdaten der Teilnehmer/innen.&lt;/p&gt;
DTSTART:20120125T100000
DTEND:20120125T130000
LOCATION:Maillingerstr. 15 (U1) 
ORGANIZER:MVHS München Mitte   
END:VEVENT
END:VCALENDAR