BEGIN:VCALENDAR
VERSION:2.0
PRODID:-//Stadtgeschichte München//DE
CALSCALE:GREGORIAN
BEGIN:VEVENT
UID:12101@stadtgeschichte-muenchen.de
SUMMARY:Oberflächengestaltung - Luise-Kiesselbach-Platz
DESCRIPTION:Im August 2009 starteten die Rohbauarbeiten für die Tunnel in der Garmischer Straße, am Luise-Kiesselbach-Platz und der Heckenstallerstraße. Bis Ende 2015 sind hier über zwei Kilometer Tunnel entstanden und inzwischen für den Verkehr freigegeben. Bis Ende 2017 wird jetzt im Anschluss daran die Oberfläche neu gestaltet. Bei einer Führung erläutert Ihnen der Vorsitzende des zuständigen Bezirksausschusses 7 den derzeitigen Stand, die Bauweised er Tunnel und vorliegende Pläne der Oberflächengestaltung.
DTSTART:20161024T170000
DTEND:20161024T183000
LOCATION:Südseite· Passauer Str./Heckenstallerstr.
ORGANIZER:MVHS München Süd
END:VEVENT
END:VCALENDAR