BEGIN:VCALENDAR
VERSION:2.0
PRODID:-//Stadtgeschichte München//DE
CALSCALE:GREGORIAN
BEGIN:VEVENT
UID:12112@stadtgeschichte-muenchen.de
SUMMARY:„Wer war eigentlich Albert-Roßhaupter?“
DESCRIPTION:&lt;p&gt;Die Geschichte der Münchner Arbeiterbewegung An vielen Straßenschildern geht man achtlos vorbei - dabei bieten sie eine gute Gelegenheit, sich an die Geschichte vergangener Jahrhunderte und herausragende Persönlichkeiten zu erinnern. Albert Roßhaupter, Johannes Timm und Fritz Endres waren bayerische Staatsminister in den Kabinetten von Kurt Eisner und Johannes Hoffmann und führende Landtagsabgeordnetein der Münchner Arbeiterbewegung bis 1933. Der Vortrag zeichnet unter anderem deren Leben und Wirken nach.&lt;/p&gt; 
DTSTART:20170207T190000
DTEND:20170207T203000
LOCATION:Volkshochschule· Albert-Roßhaupter-Str. 8
ORGANIZER:MVHS München Süd
END:VEVENT
END:VCALENDAR