BEGIN:VCALENDAR
VERSION:2.0
PRODID:-//Stadtgeschichte München//DE
CALSCALE:GREGORIAN
BEGIN:VEVENT
UID:12115@stadtgeschichte-muenchen.de
SUMMARY:Grüne Heimat für Gelbe Engel - Besuch beim ADAC
DESCRIPTION:Der ADAC, Europas größter Mobilitätsdienstleister mit über 18 Millionen Mitgliedern, hat seine neue Zentrale an der Hansastraße 19.&nbsp;Bei einem Besuch erhalten Sie Einblick in die zahlreichen und vielfältigen Aktivitäten des Clubs, die über die Arbeit der bekannten&nbsp;„Gelben Engel\" weit hinausgehen. Rund 2500 Mitarbeiter und&nbsp;Mitarbeiterinnen helfen&nbsp;täglich rund um die Uhr den Mitgliedern in&nbsp;Notfällen, betreuen und beraten Sie und erstellen Clubleistungen wie Karten und Atlanten.&nbsp;Weiter erfahren Sie alles über das 93 m hohe architektonische&nbsp;Meisterwerk mit seiner&nbsp;farbenfrohen Fassade, dem wegweisenden&nbsp;Energiekonzept und neuen Maßstäben für die Arbeitswelt.
DTSTART:20161109T150000
DTEND:20161109T170000
LOCATION:ADAC, Hansastr. 19
ORGANIZER:MVHS München Süd
END:VEVENT
END:VCALENDAR