BEGIN:VCALENDAR
VERSION:2.0
PRODID:-//Stadtgeschichte München//DE
CALSCALE:GREGORIAN
BEGIN:VEVENT
UID:12132@stadtgeschichte-muenchen.de
SUMMARY:Russisch-orthodoxes Kloster des Heiligen Hiob
DESCRIPTION:Mit dem Fall des Eisernen Vorhangs rückte auch die dritte der drei großen christlichen Konfessionen, die Orthodoxie, wieder vermehrt&nbsp;in unseren Blickwinkel. Das kleine Kloster zum Heiligen Hiob ist ein&nbsp;Ableger eines der vier größten&nbsp;russischen Klöster. Nach Jahren oder&nbsp;Jahrzehnten in der Vertreibung gründeten russische Emigranten&nbsp;1945 eine monastische Bruderschaft, die im Frühjahr 1946 in das&nbsp;ehemalige HJ-Heim und jetzige Kloster einzog. Heute beherbergt es&nbsp;zwölf Mönche, die vom Drucken kirchlicher Literatur und Herstellen&nbsp;der typischen Kerzen leben. Das Kloster gehört zur russisch-orthodoxen Diözese des Bischofs von Berlin und Deutschland.
DTSTART:20161204T140000
DTEND:20161204T160000
LOCATION:Hofbauernstr. 26, am Klostereingang
ORGANIZER:MVHS München West
END:VEVENT
END:VCALENDAR