BEGIN:VCALENDAR
VERSION:2.0
PRODID:-//Stadtgeschichte München//DE
CALSCALE:GREGORIAN
BEGIN:VEVENT
UID:12135@stadtgeschichte-muenchen.de
SUMMARY:München weiterbauen - Freiham 2016
DESCRIPTION:In Freiharn soll die „Stadt von morgen\" erprobt werden. Wie kann das Zusammenspievl on architektonischer Gestalt, städtebaulicher Qualität und einer breiten Teilhabe der Bevölkerung in Freiharn funktionieren? In naher Zukunft stehen wichtige Weichenstellungen an - u.a.: 11 Lebensqualität in Freiharn\", 11 Häuser bauen, Lebensraum schaffen·\", ,,Mobil sein in Freiharn - intelligent und inklusiv\". Mit dem Bau der öffentlichen Erschließung sowie von zwei Grundschulen hat die Umsetzung bereits begonnen. Der aktuelle Stand ist das Thema dieses Abends.&nbsp; In Kooperation mit dem Referat für Stadtplanung und Bauordnung.
DTSTART:20161123T190000
DTEND:20161123T210000
LOCATION:Volkshochschule · Bäckerstr. 14
ORGANIZER:MVHS München West
END:VEVENT
END:VCALENDAR