BEGIN:VCALENDAR
VERSION:2.0
PRODID:-//Stadtgeschichte München//DE
CALSCALE:GREGORIAN
BEGIN:VEVENT
UID:1214@stadtgeschichte-muenchen.de
SUMMARY:Ganz in Ihrer Nähe â€¦
DESCRIPTION:&lt;p&gt;Zur Kategorie der seltenen Handwerksberufe z&amp;auml;hlt der Beruf des Geigenbauers.&lt;br /&gt; Er verbindet handwerkliches Geschick mit musikalischem Einf&amp;uuml;hlungsverm&amp;ouml;gen. Die Geigenbaumeisterin Eva L&amp;auml;mmle bietet einen Einblick in ihre vielf&amp;auml;ltige T&amp;auml;tigkeit. Sie erz&amp;auml;hlt &amp;uuml;ber den Neubau von Instrumenten, von der Holzwahl bis zum Lackieren mit Naturharzen, &amp;uuml;ber Werkzeuge und die verschiedenen Arbeitsschritte, die n&amp;ouml;tig sind, um eine Geige zu bauen. Fragen rund um das&amp;nbsp; Streichinstrument, die hierbei auftauchen, werden gerne beantwortet.&lt;/p&gt;
DTSTART:20120120T150000
DTEND:20120120T170000
LOCATION:Belgradstr. 3 
ORGANIZER:MVHS München Mitte   
END:VEVENT
END:VCALENDAR