BEGIN:VCALENDAR
VERSION:2.0
PRODID:-//Stadtgeschichte München//DE
CALSCALE:GREGORIAN
BEGIN:VEVENT
UID:12154@stadtgeschichte-muenchen.de
SUMMARY:Was Sie schon immer über Schloss Nymphenburg wissen wollten
DESCRIPTION:&lt;p&gt;Landgut, Sommerresidenz, Touristenzentrum: Anschaulich und kompetent beschreiben die Buchautoren Doris Fuchsberger und Albrecht Vorherr die Entwicklung der glänzendsten Landmarke im Münchner Westen. Unbekannte Details zu Schloss und Park, zu Arbeitswelt und Hofleben in dreieinhalb Jahrhunderten sind Thema des reich bebilderten Vortrags.&lt;/p&gt; 
DTSTART:20161207T180000
DTEND:20161207T193000
LOCATION:Volkshochschule · Neuhauser Trafo.· Nymphenburger Str. 171a
ORGANIZER:MVHS München West
END:VEVENT
END:VCALENDAR