BEGIN:VCALENDAR
VERSION:2.0
PRODID:-//Stadtgeschichte München//DE
CALSCALE:GREGORIAN
BEGIN:VEVENT
UID:12155@stadtgeschichte-muenchen.de
SUMMARY:Wohnen und nachbarschaftliche Hilfe im Alter
DESCRIPTION:Das erste Projekt entstand 1997 in Pasing. Es ermöglichte alleinstehenden Frauen nach Ende ihrer Berufszeit einen selbstbestimmten und schönen Lebensabend - als Alternative zum Umzug ins Altenheim. Die Frauen. leben zusammen, unterstützen sich, können sich aber jederzeit in ihre eigene Wohnung zurückziehen. Dr. Christa Lippmann, Vereinsvorsitzende und Autorin des Buches ,,Wohnen im Alter\", informiert über das Projekt und die Möglichkeiten, den letzten Lebensabschnitt angenehm und in Würde zu verbringen. Das Buch „Wohnen im Alter\" kann im Buchhandel oder beim Verein erworben werden. nv or Ort · Auch mit MVHS-Card · 15 Plätze · 6.
DTSTART:20170201T180000
DTEND:20170201T193000
LOCATION:Volkshochschule · Neuhauser Trafo · Nymphenburger Str. 171 a
ORGANIZER:MVHS München West
END:VEVENT
END:VCALENDAR