BEGIN:VCALENDAR
VERSION:2.0
PRODID:-//Stadtgeschichte München//DE
CALSCALE:GREGORIAN
BEGIN:VEVENT
UID:12164@stadtgeschichte-muenchen.de
SUMMARY:Münchner Kaffeehausgeschichten
DESCRIPTION:Seit fast 300 Jahren wird in München Kaffee ausgeschenkt. Anfangs in einfachen Kaffeestu- ben, später in prachtvoll ausgestatteten Cafes, heute gibt es Espressobars nach italienischem oder - als neueste Idee - amerikanischer Art. Bei diesem Spaziergang beschäftigen wir uns mit der Geschichte von traditionsreichen noch bestehenden aber auch mit schon lange ver- schwundenen Kaffeehäusern. In einem kleinen „Hausmuseum\" sehen Sie die Kaffeehauskultur der zwanziger Jahre. In Zusammenarbeit mit der vhs Taufkirchen.
DTSTART:20161012T140000
DTEND:20161012T153000
LOCATION:Odeonsplatz, am Hofgartentor
ORGANIZER:VHS SüdOst Landkreis München
END:VEVENT
END:VCALENDAR