BEGIN:VCALENDAR
VERSION:2.0
PRODID:-//Stadtgeschichte München//DE
CALSCALE:GREGORIAN
BEGIN:VEVENT
UID:12170@stadtgeschichte-muenchen.de
SUMMARY:Alles glitzert! Schatzkammer der bayerischen Könige
DESCRIPTION:Diese bedeutende Sammlung umfasst Kunst- werke aus der Zeit des Mittelalters bis zum Klas- sizismus. Bereits 1565 legte Herzog Albrecht V den Grundstock zur Schatzkammer. Seine Nach- folger erweiterten die Sammlung, die unter Karl Theodor durch Kleinodien aus der Kurpfalz ver- größert wurde. Die Säkularisation brachte dann viele Schätze aus Kirchen und Klöstern nach München wie z.B. das Arnulfciborium und das Giselakreuz. Zzgl. Eintritt. In Zusammenarbeit mit der vhs Taufkirchen.
DTSTART:20161125T153000
DTEND:20161125T170000
LOCATION:Kassenhalle Residenz
ORGANIZER:VHS SüdOst Landkreis München
END:VEVENT
END:VCALENDAR