BEGIN:VCALENDAR
VERSION:2.0
PRODID:-//Stadtgeschichte München//DE
CALSCALE:GREGORIAN
BEGIN:VEVENT
UID:12172@stadtgeschichte-muenchen.de
SUMMARY:Aktuell zu Weihnachten:
DESCRIPTION:Haidhausen: das bedeutet malerische Herbergs- häuschen, eine großartige neugotische Kirche und gründerzeitliche Mietshäuser. Erleben sie die Entwicklung des einstigen Dorfes zum be- gehrten Stadtteil. Der Rundgang beginnt am „Haidhauser Stachus\" und endet am Weißenburger Platz mit seinem schönen Weihnachtsmarkt. In Zusammenarbeit mit der vhs Taufkirchen.&nbsp;
DTSTART:20161207T170000
DTEND:20161207T190000
LOCATION:Max-Weber-Platz, Ecke Einstein/ Innere Wiener Straße
ORGANIZER:VHS SüdOst Landkreis München
END:VEVENT
END:VCALENDAR