BEGIN:VCALENDAR
VERSION:2.0
PRODID:-//Stadtgeschichte München//DE
CALSCALE:GREGORIAN
BEGIN:VEVENT
UID:12174@stadtgeschichte-muenchen.de
SUMMARY:St. Peter („der Alte Peter\") und seine wieder geschaffenen Deckenfresken
DESCRIPTION:St. Peter war die erste und lange Zeit auch die einzige Pfarrkirche der Stadt München. Die rei- che Ausstattung enthält Werke fast aller Stilrich- tungen von der Gotik bis zum Klassizismus. Eine Kostbarkeit ist der sog. „Schrenkaltar\" aus dem 15. Jahrhundert. Ebenfalls aus dieser Zeit stammen die Bildwerke von Erasmus Grasser. Im 18. Jahrhundert schufen E. Q. Asam, Ignaz Günther und J. B. Zimmermann bedeutende Kunstwerke für die beliebte Kirche, deren 1945 geplanten Abbruch die Münchner Bürger verhinderten. Ein einzigartiges Zeugnis der Liebe der Münchner zu ihrer Kirche ist die 1999 ausgeführte Rekonstruktion der Deckenfresken, überwiegend finan- ziert durch Spenden!&nbsp;
DTSTART:20161214T150000
DTEND:20161214T163000
LOCATION:Nordeingang der Kirche 
ORGANIZER:VHS SüdOst Landkreis München
END:VEVENT
END:VCALENDAR