BEGIN:VCALENDAR
VERSION:2.0
PRODID:-//Stadtgeschichte München//DE
CALSCALE:GREGORIAN
BEGIN:VEVENT
UID:12175@stadtgeschichte-muenchen.de
SUMMARY:Hofgarten und Staatskanzlei
DESCRIPTION:Diese einzigartige Renaissanceanlage war jahr- hundertelang nur den Bewohnern der Residenz zugänglich. Als dann die Bürger den Garten be- treten durften, sollten sie durch die Gemälde- galerie und die Fresken in den Arkaden gebildet werden. Die Münchner promenierten jedoch lieber vor der Hofgartenkaserne an deren Stelle sich seit 1993 die Staatskanzlei befindet. Die Staatskanzlei öffnet für Sie die Türe und Sie können den grandiosen Neubau von innen be- sichtigen. Der Rundgang durch den Hofgarten findet anschließend statt. Bitte beachten Sie: Bitte geben Sie bei der An- meldung Ihr Geburtsdatum an. Sie benötigen zum Zutritt zur Staatskanzlei Ihren Ausweis. In Zusammenarbeit mit der vhs Taufkirchen. &nbsp;
DTSTART:20161230T140000
DTEND:20161230T163000
LOCATION:Eingang zur Staatskanzlei (Ostseite des Baus)
ORGANIZER:VHS SüdOst Landkreis München
END:VEVENT
END:VCALENDAR