BEGIN:VCALENDAR
VERSION:2.0
PRODID:-//Stadtgeschichte München//DE
CALSCALE:GREGORIAN
BEGIN:VEVENT
UID:12176@stadtgeschichte-muenchen.de
SUMMARY:Die Rose aus dem Bayernland
DESCRIPTION:Glück und Tragik, äußerer Glanz und inneres Elend - Kaiserin Sisis Leben war eine einzige Achterbahnfahrt der Gefühle. Und doch gab es einen Ort, an dem sie sich glücklich fühlte: In Bayern, wo sie geboren wurde und am Starn- berger See aufwuchs. Und wo es sie zeitlebens immer wieder hinziehen sollte. Auf diesem Rundgang erzählt die Referentin von Menschen, die in Zusammenhang mit der Kai- serin standen. Dunkle Prophezeiungen, extreme Gewaltmärsche, Blutgräfinnen, griechische Som- mersonnentage, Hofbräuhausbesuche und Schönheitsrezepte - Cornelia Ziegler lässt die Kaiserin wieder lebendig werden und verrät den wirklichen Grund für Sissis Schönheitssucht.
DTSTART:20170101T140000
DTEND:20170101T160000
LOCATION:Stefansplatz, vor dem Friedhofseingang
ORGANIZER:VHS SüdOst Landkreis München
END:VEVENT
END:VCALENDAR