BEGIN:VCALENDAR
VERSION:2.0
PRODID:-//Stadtgeschichte München//DE
CALSCALE:GREGORIAN
BEGIN:VEVENT
UID:12212@stadtgeschichte-muenchen.de
SUMMARY:Die Münchner Residenz
DESCRIPTION:&lt;p&gt;Die Münchner Residenz gehört zu den größten Residenzanlagen weltweit. In ihr spiegelt sich die Stilgeschichte von der Renaissance bis zum Biedermeier und nahezu 600 Jahre bayrische Geschichte wider. Unsere Zeitreise beginnt im Grottenhof und dem Antiquarium, dem schönsten Renaissancesaal nördlich der Alpen . Wir sehen die Steinzimmer im Kaiserhoftrakt, die Päpstlichen Zimmer, die Reichen Zimmer mit der Grünen Galerie von Francois Cuvillies d. Ä. und entdecken die drei Kirchen: Hofkapelle, Geheime Kammerkapelle und die Allerheiligen-Hofkirche.&lt;/p&gt; 
DTSTART:20161127T110000
DTEND:20161127T123000
LOCATION:Residenz - Kassenraum · Residenzstr. 1
ORGANIZER:MVHS München Mitte   
END:VEVENT
END:VCALENDAR