BEGIN:VCALENDAR
VERSION:2.0
PRODID:-//Stadtgeschichte München//DE
CALSCALE:GREGORIAN
BEGIN:VEVENT
UID:12214@stadtgeschichte-muenchen.de
SUMMARY:Richard Wagner und Ludwig II. 
DESCRIPTION:Kaum eine andere Beziehung erregte die Münchner Gemüter Mitte des 19. Jahrhunderts mehr als die Freundschaft zwischen Ludwig II. und Richard Wagner. Musikalisches Genie und königliche Schwärmerei, politische Intrigen und skandalöse Enthüllungen, triumphale Erfolge, ein aufgebrachtes Kabinett und ein letztes Ultimatum: Nicht nur an den historischen Stätten vor Ort, auch im Münchner Stadtmuseum verfo lgen wir die Spuren einer königlichen Freundschaft, die München neben einem handfesten Eklat einige der größten Momente der Musikgeschichte bescherte. Auch mit MVHS-Card · Vor Ort zu zahlen: ermäßigter Eintritt ins Stadtmuseum
DTSTART:20170218T140000
DTEND:20170218T153000
LOCATION:vor dem Hotel Bayerischer Hof · Promenadenplatz 2-6 
ORGANIZER:MVHS München Mitte   
END:VEVENT
END:VCALENDAR