BEGIN:VCALENDAR
VERSION:2.0
PRODID:-//Stadtgeschichte München//DE
CALSCALE:GREGORIAN
BEGIN:VEVENT
UID:1222@stadtgeschichte-muenchen.de
SUMMARY:Wie gehtâ€˜s weiter mit ROST?
DESCRIPTION:&lt;p&gt;Das Konzept steht seit langem &amp;ndash; und es klingt nicht schlecht: &amp;Ouml;stlich des Ostbahnhofes, wo sich heute das Partyvolk tummelt, soll ein attraktives neues Stadtquartier nach dem Leitbild &amp;bdquo;kompakt, urban, gr&amp;uuml;n&amp;ldquo; entstehen. Wohnungen f&amp;uuml;r 2000 Menschen und 10 000 Arbeitspl&amp;auml;tze, beides in umwelt- und sozialvertr&amp;auml;glicher Mischung, gro&amp;szlig;z&amp;uuml;gig durchgr&amp;uuml;nt, autoverkehrsarm und energieeffizient gebaut.&lt;br /&gt; Bereits 1999 beschloss der Stadtrat den st&amp;auml;dtebaulichen und landschaftsplanerischen Rahmen, 2001 folgte ein europaweiter Wettbewerb, 2007 wurde ein Strukturplan beschlossen und zwei Planungsvarianten ausgearbeitet &amp;hellip; Und nun? T&amp;auml;uscht der Eindruck,&amp;nbsp; oder stockt der Fortschritt hinterm Ostbahnhof? Und wenn ja, woran liegt&amp;acute;s und wie geht es weiter? Eine Begehung und eine Podiumsdiskussion mit Fachleuten und Verfahrensbeteiligten gibt Aufschluss.&lt;/p&gt; &lt;p&gt;Eva Regensburger, Johann Wilhelm, Planungsreferat/Ulrike Klar, Udo Renke, Lokalbaukommission/Rudolf Hartbrunner,&amp;nbsp; Stadtteilhistoriker/Josef K. Koch, Vorsitzender BA 14/Winfried Eckardt, MVHS (Moderation)/ N.N. &amp;middot; Treffpunkt: Ostbahnhof, Ausgang Friedenstra&amp;szlig;e (oben)&lt;/p&gt; &lt;p&gt;&amp;nbsp;&lt;/p&gt;
DTSTART:20111013T170000
DTEND:20111013T200000
LOCATION:Ostbahnhof, Ausgang Friedenstraße (oben) 
ORGANIZER:MVHS München Mitte   
END:VEVENT
END:VCALENDAR