BEGIN:VCALENDAR
VERSION:2.0
PRODID:-//Stadtgeschichte München//DE
CALSCALE:GREGORIAN
BEGIN:VEVENT
UID:12244@stadtgeschichte-muenchen.de
SUMMARY:München bei Nacht: Stadtspaziergänge mit spannenden Geschichten und „Insidertip
DESCRIPTION:&lt;p&gt;Ein abendlicher Altstadtrundgang zu histori schen Gebäuden und moderner Architektur. lauschen Sie den spannenden Geschichten der Bauherrn und Bewohner. Passagen, bezaubernde Innenhöfe und schöne Geschäfte gibt es zu entdecken. Bei unserem .. Nachtvyalk&quot; schauen wir in interessante Lokale, angesagte Bars und Treffpunkte. Sie bekommen Ausgehtipps, Ideen für den nächsten „ Nachtausflug&quot; oder einfach Lust zu weiteren Stadterkundungen. Als Ausklang können Sie einen Prosecco, Drink oder Espresso an einer der sieben Bars im Hotel Bayerischer Hof genießen.&lt;/p&gt; &lt;p&gt;Speisen und Getränke nicht inbegriffen&lt;/p&gt; 
DTSTART:20161121T183000
DTEND:20161121T203000
LOCATION: am Fischbrunnen · Marienplatz
ORGANIZER:MVHS München Mitte   
END:VEVENT
END:VCALENDAR