BEGIN:VCALENDAR
VERSION:2.0
PRODID:-//Stadtgeschichte München//DE
CALSCALE:GREGORIAN
BEGIN:VEVENT
UID:12247@stadtgeschichte-muenchen.de
SUMMARY:Münchens Natur- und Kulturschätze an der Isar
DESCRIPTION:Von der Stadtmitte bewegen wir uns flussaufwärts: Kurt Bauer erzählt von Flößerei und Stadtgründung und erklärt Bauwerke wie den Friedensengel, den Vater-Rhein-Brunnen oder das Müllersche Volksbad. Weiter südlich erleben wir die renaturierte Isar. Woran erkennen wi r die typischen Bäume und Sträucher im Winter? Welche Tier- und Vogelarten entdecken wir? Gänsesäger, Eisvogel und mit etwas Glück auch Wanderfa lken. Die Veranstaltung findet bei jedem Wetter statt . Endpunkt der Exkursion: U-Bahnhof Thalkirchen (U3) danach Einkehrmöglichkeit mit dem Dozenten. Bitte mitbringen: Getränke und Verpflegung, Fernglas wenn vorhanden, wetterfeste Kleidung.
DTSTART:20170121T100000
DTEND:20170121T140000
LOCATION:Max II-Denkmal · Maximilianstr.
ORGANIZER:MVHS München Mitte   
END:VEVENT
END:VCALENDAR