BEGIN:VCALENDAR
VERSION:2.0
PRODID:-//Stadtgeschichte München//DE
CALSCALE:GREGORIAN
BEGIN:VEVENT
UID:12277@stadtgeschichte-muenchen.de
SUMMARY:Der Alte Südfriedhof - Bayerns Pantheon
DESCRIPTION:Der Alte Südliche Friedhof wurde einst von Herzog Albrecht V. für die Toten der Pest und für arme Leute gegründet, da die innerstädtischen Gottesäcker nicht mehr ausreichten. Im 19. Jahrhundert diente er als Begräbnisstätte vieler berühmter Persönlichkeiten, von deren Leben und Wirken erzählt wird, wie Spitzweg, Pettenkofer, Senefelder, Gabelsberger, Ohm und Klenze. Auch zwei lndianerkinder, der erste Münchner Protestant, drei Münchner Originale, der Texter der Bayernhymne und viele andere haben hier ihre letzte Ruhe gefunden.
DTSTART:20161113T110000
DTEND:20161113T133000
LOCATION:Eingang Südfriedhof · Stephansplatz
ORGANIZER:MVHS München Mitte   
END:VEVENT
END:VCALENDAR