BEGIN:VCALENDAR
VERSION:2.0
PRODID:-//Stadtgeschichte München//DE
CALSCALE:GREGORIAN
BEGIN:VEVENT
UID:1228@stadtgeschichte-muenchen.de
SUMMARY:Grüntal â€“ wo der Herzogpark zu Ende ist
DESCRIPTION:&lt;p&gt;Der geplante Abbruch der Nobel-Gastst&amp;auml;tte &amp;bdquo;Gr&amp;uuml;ntal&amp;ldquo; hat Namen und Quartier ins Bewusstsein ger&amp;uuml;ckt. Aber, wer wei&amp;szlig; schon, dass es hier vor nicht einmal drei Generationen noch Bauern und d&amp;ouml;rfliche Handwerker gab? Und dass erst die E-Werk-Staustufen der Isar AG die F&amp;auml;hre, den F&amp;auml;hrmann und leider auch das malerische F&amp;auml;hrmannhaus verdr&amp;auml;ngt und &amp;uuml;berfl&amp;uuml;ssig gemacht haben? Dass die geplante Bebauung der Oberf&amp;ouml;hringer Isar-Insel abgewendet, aber eine sp&amp;auml;ter heruntergekommene und nunmehr sanierte &amp;bdquo;Ami-Siedlung&amp;ldquo; in Kauf genommen werden musste? Kein nobles Villenviertel, aber ruhige Wohnlagen am &amp;bdquo;Ende des Herzogparks&amp;ldquo;.&lt;/p&gt;
DTSTART:20111030T140000
DTEND:20111030T160000
LOCATION:Ecke Rümelin-/Mauerkircherstr.
ORGANIZER:MVHS München Mitte   
END:VEVENT
END:VCALENDAR