BEGIN:VCALENDAR
VERSION:2.0
PRODID:-//Stadtgeschichte München//DE
CALSCALE:GREGORIAN
BEGIN:VEVENT
UID:12290@stadtgeschichte-muenchen.de
SUMMARY:Die Wittelsbacher im Mittelalter (1180-1508)
DESCRIPTION:Mit dem Jahre 1180 beginnt die Herrschaftsgeschichte der Witteis- bacher in Bayern. Keine andere Familie hat das Land so geprägt wie diese. Von den frühen Stadtgründungen im 13. und 14. Jahrhundert über die spätmittelalterlichen Landesteilungen bis hin zum Primo- geniturgesetz des Jahres 1506. Der Vortrag gibt einen Überblick über die Geschicke Bayerns unter den Wittelsbachern, die verschiedenen Herrscher werden vorgestellt, kurz&amp;gut - ein Angebot der MVHS und der Münchner^Stadtbiblpthek.
DTSTART:20161122T191500
DTEND:20161122T201500
LOCATION:Stadtbibliothek Isarvorstadt • Kapuzinerstr. 28
ORGANIZER:MVHS München Mitte   
END:VEVENT
END:VCALENDAR