BEGIN:VCALENDAR
VERSION:2.0
PRODID:-//Stadtgeschichte München//DE
CALSCALE:GREGORIAN
BEGIN:VEVENT
UID:12293@stadtgeschichte-muenchen.de
SUMMARY:König Ludwig I. von Bayern - Monarch und Mäzen
DESCRIPTION:&nbsp;Als „einen König, wie Europa ihn im 19. Jahrhundert nur einmal sah\", würdigte Golo Mann Ludwig I. von Bayern (1786-1868), den Förderer der Künste und der Wissenschaften, den Auftraggeber berühmter Architekten. Unter seiner Ägide entwickelte sich das bäuerliche München zu einer aufstrebenden Stadt. Weniger glücklich war seine politische und private Hand: Die Ausbreitung der revolutionären Bewegung im Vormärz beantwortete er mit zunehmend reaktionären . Tendenzen. Dies und sein Verhalten in der Affäre mit der Tänzerin Lola Montez erzwang schließlich seine Abdankung.&nbsp;
DTSTART:20161129T180000
DTEND:20161129T193000
LOCATION:Volkshochschule • Albert-Roßhaupter-Str. 8
ORGANIZER:MVHS München Mitte   
END:VEVENT
END:VCALENDAR