BEGIN:VCALENDAR
VERSION:2.0
PRODID:-//Stadtgeschichte München//DE
CALSCALE:GREGORIAN
BEGIN:VEVENT
UID:12294@stadtgeschichte-muenchen.de
SUMMARY:König Ludwig II. von Bayern
DESCRIPTION:Vor etwa 150 Jahren, am 10. März 1864 wurde der erst 18-jährige Ludwig zum vierten König von Bayern gekrönt. Von Anfang an enga- gierte er sich für die Förderung der Kultur, insbesondere des Kompo- nisten Richard Wagner. Als „Märchen- und Mondkönig\" ging der überaus populäre König Ludwig II. von Bayern (1845-1886) in die Geschichte ein. Die Nachwelt verbindet mit ihm vor allem seine Schlösser, und obwohl er zum Schluss nur noch wenig in München anwesend war, hat er auch hier seine Spuren hinterlassen.
DTSTART:20161206T180000
DTEND:20161206T193000
LOCATION:Volkshochschule - Albert-Roßhaupter-Str. 8
ORGANIZER:MVHS München Mitte   
END:VEVENT
END:VCALENDAR