BEGIN:VCALENDAR
VERSION:2.0
PRODID:-//Stadtgeschichte München//DE
CALSCALE:GREGORIAN
BEGIN:VEVENT
UID:12298@stadtgeschichte-muenchen.de
SUMMARY:Die ersten Deportationen aus München – Gedenkveranstaltung zum 75. Jahrestag
DESCRIPTION:Vor 75 Jahren, am 20. November 1941, wurden 998 Münchner Jüdinnen und Juden im „Judenlager“ Milbertshofen versammelt, nach Kaunas/Litauen deportiert und fünf Tage später ermordet. Das NS-Dokumentationszentrum erinnert an diesen Tag mit einer Gedenkveranstaltung. Das Leben der jüdischen Bürger wurde vor ihrer Deportation buchstäblich auf den Inhalt eines Koffers begrenzt. Von vielen Opfern dieser ersten Deportation vom 20. November 1941 blieb nicht einmal ein Passfoto, sondern nur der Eintrag im Melderegister und der zynische behördliche Vermerk „nach unbekannt abgewandert“. Die Kunstinstallation „Hier wohnte... Koffer der Erinnerung“ von Wolfram P. Kastner und Ingrid Reuther erinnert an die jüdischen Nachbarn in der Maxvorstadt. Das Projekt findet am 20. November mit einer Ausstellung im Foyer sowie einem Projektbericht im NS-Dokumentationszentrum seinen Abschluss. Der Münchner Ernst Grube hat die Deportationen als Kind miterlebt. Im Gespräch mit dem Historiker Maximilian Strnad spricht er über seine Erinnerungen. Ernst Grube erlebte die Maßnahmen der systematischen Ausgrenzung in dem jüdischen Kinderheim in der Antonienstraße in Schwabing. Nach Auflösung des Heims wurde er nach Milbertshofen und dann in die „Heimanlage für Juden“ in Berg am Laim gebracht. Kurz vor Kriegsende wurde er mit seiner Mutter und den Geschwistern nach Theresienstadt deportiert. Veranstalter NS-Dokumentationszentrum München in Zusammenarbeit mit dem Institut für Kunst und Forschung, München
DTSTART:20161120T190000
DTEND:20161120T000000
LOCATION:NS-Dokumentationszentrum München, Auditorium
ORGANIZER:NS-Dokumentationszentrum München
END:VEVENT
END:VCALENDAR