BEGIN:VCALENDAR
VERSION:2.0
PRODID:-//Stadtgeschichte München//DE
CALSCALE:GREGORIAN
BEGIN:VEVENT
UID:12311@stadtgeschichte-muenchen.de
SUMMARY:Schloss Nymphenburg im Nationalsozialismus
DESCRIPTION:In den Jahren des Hitler-Regimes diente Schloss Nymphenburg stets als Kulisse zur Machtdemonstration. Regelmäßig zu „Führers Geburtstag“ fanden Fackelzüge zum Schloss statt, der Stadtteil war illuminiert. Hier wurde die „Nacht der Amazonen“ von internationalen Staatsgästen beklatscht. Die Parkpflege konnte in den Kriegsjahren nur mit Zwangsarbeitern aufrechterhalten werden. Mit der Hilfe von KZ-Häftlingen aus Dachau produzierte die Porzellanmanufaktur Luxus für Hitlers Berghof, die Reichskanzlei... Auch das Schicksal der Wittelsbacher, die Gründung einer Widerstandsgruppe, Zwangsräumungen und Bombardierungen sind Themen des Rundgangs.
DTSTART:20121120T140000
DTEND:20121120T153000
LOCATION:Schloss Nymphenburg vor der östlichen Freitreppe (Eingang Museumsshop)
ORGANIZER:
END:VEVENT
END:VCALENDAR