BEGIN:VCALENDAR
VERSION:2.0
PRODID:-//Stadtgeschichte München//DE
CALSCALE:GREGORIAN
BEGIN:VEVENT
UID:12315@stadtgeschichte-muenchen.de
SUMMARY:München mit dem Fahrrad endecken
DESCRIPTION:&lt;p&gt;Wir starten unsere ca. 3-stündige Radtour am Alten Botanischen Garten, fahren über den Königsplatz zu den Pinakotheken und dem Türkentor. Weiter geht die Fahrt zum Alten Simpel und der „Münchner Oskarschmiede&quot;. Wir werden auch das Geburtshaus der „Sisi&quot; sehen bevor wir in den Englischen Garten kommen und am Chinesischen Turm eine kleine Pause einlegen. Wir lassen uns von den Eisbachsurtern begeistern und fahren weiter durch den Hofgarten und die Resi- denz. An den vielen Sehenswürdigkeiten auf der Tour bleiben wir kurz stehen und sie erfahren geschichtliches und aktuelles zu diesen Örtlichkeiten, zum Teil als Anekdoten oder aber auch mit dem nötigen Ernst des geschichtlichen Hintergrundes. &amp;nbsp;&lt;/p&gt; &lt;p&gt;Ende der Radtour: Innenstadt&lt;/p&gt; &lt;p&gt;&amp;nbsp;&lt;/p&gt; 
DTSTART:20170604T143000
DTEND:20170604T173000
LOCATION:Alter Botanischer Garten, Elisen-Luisenstr. am Kunstwerk „Der Ring“
ORGANIZER:DGB-Bildungswerk Bayern e.V. Region München
END:VEVENT
END:VCALENDAR