BEGIN:VCALENDAR
VERSION:2.0
PRODID:-//Stadtgeschichte München//DE
CALSCALE:GREGORIAN
BEGIN:VEVENT
UID:12319@stadtgeschichte-muenchen.de
SUMMARY:Münchner Geschichte im Stadtmuseum erleben  
DESCRIPTION:&lt;p&gt;Über 850 Jahre besteht München: Wie sah die Stadt früher aus? Was ist heute noch sichtbar? In der neu gestalteten Dauerausstellung „Typisch München&quot; des Münchner Stadtmuseums begeben wir uns auf eine Entdeckungsreise durch die Lokal- und Kulturgeschichte Münchens vom Mittelalter bis zur Gegenwart. &amp;nbsp;&lt;/p&gt; &lt;p&gt;Im Rahmen von Arbeit und Leben München&lt;/p&gt; 
DTSTART:20170115T130000
DTEND:20170115T143000
LOCATION:Münchner Stadtmuseum, Foyer, St.-Jakobs-Platz 1
ORGANIZER:DGB-Bildungswerk Bayern e.V. Region München
END:VEVENT
END:VCALENDAR