BEGIN:VCALENDAR
VERSION:2.0
PRODID:-//Stadtgeschichte München//DE
CALSCALE:GREGORIAN
BEGIN:VEVENT
UID:1232@stadtgeschichte-muenchen.de
SUMMARY:Denninger Anger â€“ „Freischluftschneise„
DESCRIPTION:&lt;p&gt;Der Arabellapark entstand ab 1966 rund um den Rosenkavalierplatz und wurde als eine Mischstruktur aus Wohnanlagen, B&amp;uuml;rostandort, Dienstleistungs- und Hotelgewerbe, Kongresszentrum und verschiedenen Freizeitangeboten konzipiert. Schnell hat er sich zu einem Stadtteilzentrum mit eigener Note entwickelt. Vom Arabellapark f&amp;uuml;hrt der Stadtteilspaziergang vorbei an Hochh&amp;auml;usern&lt;br /&gt; in gro&amp;szlig;z&amp;uuml;gigen Gr&amp;uuml;nanlagen durch den Denninger Anger zur &amp;bdquo;Parkstadt Bogenhausen&amp;ldquo;. Diese erste geschlossene Wohnanlage in &lt;br /&gt; M&amp;uuml;nchen nach dem Zweiten Weltkrieg wurde im Dezember 1956 fertiggestellt. Der Name verweist auf die Bebauung in einer parkartigen Landschaft. Letzte Station des Spaziergangs ist die von Sep Ruf entworfene Kirche St. Johann von Capistran aus den Jahren 1959/1960 mit einigen architektonischen Besonderheiten.&lt;/p&gt;
DTSTART:20120127T140000
DTEND:20120127T160000
LOCATION:Volkshochschule Â· Rosenkavalierplatz 16 
ORGANIZER:MVHS München Mitte   
END:VEVENT
END:VCALENDAR