BEGIN:VCALENDAR
VERSION:2.0
PRODID:-//Stadtgeschichte München//DE
CALSCALE:GREGORIAN
BEGIN:VEVENT
UID:12320@stadtgeschichte-muenchen.de
SUMMARY:Das bürgerliche Nymphenburg      
DESCRIPTION:&lt;p&gt;Nymphenburg wurde vor allem durch das Schloss und die Witteisbacher bekannt. Aber wer weiß schon, dass hier um 1900 die größten Vergnügungsparks Deutsch- lands waren - und zwar das ganze Jahr über, wie etwa der Wiener Prater? Natürlich ließ sich hier - motiviert durch die Nähe zum Schloss - viel Prominenz nieder. Nicht umsonst nannte der Volksmund den Stadtteil „Protzenhausen&quot;. Leider hinterließen aber auch die Nationalsozialisten in Nymphenburg ihre Spuren.&lt;/p&gt; 
DTSTART:20170512T140000
DTEND:20170512T160000
LOCATION:Hubertusbrunnen/Waisenhausstraße am sog. „Kessel\" (am Ostende des Nymphenburger Kanals)
ORGANIZER:DGB-Bildungswerk Bayern e.V. Region München
END:VEVENT
END:VCALENDAR