BEGIN:VCALENDAR
VERSION:2.0
PRODID:-//Stadtgeschichte München//DE
CALSCALE:GREGORIAN
BEGIN:VEVENT
UID:12331@stadtgeschichte-muenchen.de
SUMMARY:Berg am Laim * hinterm Ostbahnhof
DESCRIPTION:&lt;p&gt;Gleichzeitig mit der Erbauung des Ostbahnhofs ließen sich auf dem heute zu Berg am Laim gehörenden Gebiet – entlang der Friedenstraße und den Bahngleisen – namhafte Münchner Firmen nieder, darunter Kustermann, Pfanni, Kathreiner’s Erben und die Branntweinfabrik Macholl. &amp;nbsp;&lt;/p&gt; &lt;p&gt;Heute dominieren hier die Verwaltungsgebäude des Technischen Rathauses sowie die Ten Towers der Telekom. &amp;nbsp;&lt;/p&gt; &lt;p&gt;Mit dem Projekt&amp;nbsp;&lt;em&gt;„Werksviertel“&lt;/em&gt;&amp;nbsp;(früher&amp;nbsp;&lt;em&gt;ROST *Rund um den Ostbahnhof&lt;/em&gt;) wurde im Jahr 2001 eine städtebauliche Neugestaltung des gesamten Areals – vom&amp;nbsp;&lt;em&gt;„Kunstpark Ost“&lt;/em&gt;&amp;nbsp;über den Piusplatz bis zum&amp;nbsp;&lt;em&gt;„Technischen Rathaus“&lt;/em&gt;&amp;nbsp;– eingeleitet. &amp;nbsp;&lt;/p&gt; &lt;p&gt;Berg am Laim soll durch ein attraktives neues Stadtquartier - nach dem Leitbild&amp;nbsp;&lt;em&gt;&quot;kompakt, urban, grün&quot;&lt;/em&gt;&amp;nbsp;- städtisch werden.&amp;nbsp;&lt;br /&gt; Hier entstehen Wohnungen und Arbeitsplätze, beides in umwelt- und sozialverträglicher Mischung, großzügig durchgrünt, autoverkehrsarm und energieeffizient gebaut. &amp;nbsp;&lt;/p&gt; &lt;p&gt;Hier wird auch der Standort für den neuen&amp;nbsp;&lt;em&gt;&quot;Konzertsaal&quot;&lt;/em&gt;&amp;nbsp;sein.&amp;nbsp;&lt;/p&gt; 
DTSTART:20170528T110000
DTEND:20170528T133000
LOCATION:Technisches Rathaus * Friedensstraße 40
ORGANIZER:Münchner Zeitensprünge
END:VEVENT
END:VCALENDAR