BEGIN:VCALENDAR
VERSION:2.0
PRODID:-//Stadtgeschichte München//DE
CALSCALE:GREGORIAN
BEGIN:VEVENT
UID:1235@stadtgeschichte-muenchen.de
SUMMARY:Noch rennen sie â€¦
DESCRIPTION:&lt;p&gt;Seit mehr als hundert Jahren geh&amp;ouml;rt die Trabrennbahn zu Daglfing. Mehr als hundert Jahre alt ist auch der M&amp;uuml;nchner Trabrenn- und&lt;br /&gt; Zuchtverein e. V., der die Trabrennen ausrichtet. Doch wie lange laufen sie noch? Eine Umsiedlung der Rennbahn ist geplant, das Gel&amp;auml;nde inzwischen verkauft. Noch gibt es die traditionsreichen Rennen, wie an diesem Sonntag, dessen H&amp;ouml;hepunkt der &amp;bdquo;Bayern-Pokal f&amp;uuml;r das Stutenrennen&amp;ldquo; bildet. Zur Einstimmung wandern Sie &amp;uuml;ber das Gel&amp;auml;nde, werfen einen Blick in die Stallungen &amp;ndash; und wenn m&amp;ouml;glich &amp;ndash; auch in die Schmiede. Eine Insiderin begleitet Sie durch den Tag und erkl&amp;auml;rt Ihnen das Regelwerk der Rennen. Auf reservierten Trib&amp;uuml;hnenpl&amp;auml;tzen sehen Sie dann, ob Ihr &amp;bdquo;Favorit&amp;ldquo; gewinnt.&lt;/p&gt;
DTSTART:20111023T123000
DTEND:20111023T180000
LOCATION:Haupteingang der Rennbahn Â· Rennbahnstr. 35 
ORGANIZER:MVHS München Mitte   
END:VEVENT
END:VCALENDAR