BEGIN:VCALENDAR
VERSION:2.0
PRODID:-//Stadtgeschichte München//DE
CALSCALE:GREGORIAN
BEGIN:VEVENT
UID:12356@stadtgeschichte-muenchen.de
SUMMARY:Das Franzosenviertel in Haidhausen
DESCRIPTION:
DTSTART:20170908T103000
DTEND:20170908T160000
LOCATION:MVHS Bildungszentrum * Einsteinstraße 28 * Raum x.xxx
ORGANIZER:Münchner Zeitensprünge
END:VEVENT
END:VCALENDAR